BEGIN:VCALENDAR
VERSION:2.0
PRODID:-//Brighter Days Family Grief Center - ECPv6.15.20//NONSGML v1.0//EN
CALSCALE:GREGORIAN
METHOD:PUBLISH
X-WR-CALNAME:Brighter Days Family Grief Center
X-ORIGINAL-URL:https://brighterdaysgriefcenter.org
X-WR-CALDESC:Events for Brighter Days Family Grief Center
REFRESH-INTERVAL;VALUE=DURATION:PT1H
X-Robots-Tag:noindex
X-PUBLISHED-TTL:PT1H
BEGIN:VTIMEZONE
TZID:America/Chicago
BEGIN:DAYLIGHT
TZOFFSETFROM:-0600
TZOFFSETTO:-0500
TZNAME:CDT
DTSTART:20250309T080000
END:DAYLIGHT
BEGIN:STANDARD
TZOFFSETFROM:-0500
TZOFFSETTO:-0600
TZNAME:CST
DTSTART:20251102T070000
END:STANDARD
BEGIN:DAYLIGHT
TZOFFSETFROM:-0600
TZOFFSETTO:-0500
TZNAME:CDT
DTSTART:20260308T080000
END:DAYLIGHT
BEGIN:STANDARD
TZOFFSETFROM:-0500
TZOFFSETTO:-0600
TZNAME:CST
DTSTART:20261101T070000
END:STANDARD
BEGIN:DAYLIGHT
TZOFFSETFROM:-0600
TZOFFSETTO:-0500
TZNAME:CDT
DTSTART:20270314T080000
END:DAYLIGHT
BEGIN:STANDARD
TZOFFSETFROM:-0500
TZOFFSETTO:-0600
TZNAME:CST
DTSTART:20271107T070000
END:STANDARD
END:VTIMEZONE
BEGIN:VEVENT
DTSTART;TZID=America/Chicago:20260421T190000
DTEND;TZID=America/Chicago:20260421T200000
DTSTAMP:20260421T050114
CREATED:20251119T234229Z
LAST-MODIFIED:20260129T211857Z
UID:10003797-1776798000-1776801600@brighterdaysgriefcenter.org
SUMMARY:Sibling Loss Support Group
DESCRIPTION:Sibling Loss Support Group \nFor those who have experienced the death of a sibling. \nDate: Wednesdays\, April 7 – May 12\, 2026 \nTime: 7:00-8:00 p.m. \nLocation: Virtual via Zoom \nRegistration: https://form.jotform.com/221534390807152 \n*this group is no cost\, however\, registration is required. \nQuestions: Email Maggie at maggie@brighterdaysgriefcenter.org
URL:https://brighterdaysgriefcenter.org/event/sibling-loss-support-group-5/2026-04-21/
LOCATION:Virtual
CATEGORIES:Support Groups
ATTACH;FMTTYPE=image/png:https://brighterdaysgriefcenter.org/wp-content/uploads/2025/11/Sib-Loss-4-7-5-12-1-1.png
END:VEVENT
BEGIN:VEVENT
DTSTART;TZID=America/Chicago:20260421T190000
DTEND;TZID=America/Chicago:20260421T200000
DTSTAMP:20260421T050114
CREATED:20260203T201159Z
LAST-MODIFIED:20260203T201200Z
UID:10003929-1776798000-1776801600@brighterdaysgriefcenter.org
SUMMARY:Widowed Women Support Group
DESCRIPTION:Widowed Women Support Group \nFor women grieving the death of their spouse or partner. \nWhen: Tuesday Evenings\, April 21 – May 26 \nTime: 7:00 – 8:00 p.m. \nWhere: Brighter Days Family Grief Center – 15764 Venture Lane\, Eden Prairie MN \nRegistration: https://form.jotform.com/221534390807152\n \nQuestions: Email info@bdgc.us \n  \n 
URL:https://brighterdaysgriefcenter.org/event/widowed-women-support-group/2026-04-21/
LOCATION:Brighter Days Family Grief Center\, 15764 Venture Lane\, Eden Prairie\, MN\, 55344-5729\, United States
CATEGORIES:Support Groups
ATTACH;FMTTYPE=image/png:https://brighterdaysgriefcenter.org/wp-content/uploads/2026/02/Widowed-women-fin-Apr-may-1.png
END:VEVENT
END:VCALENDAR